Workbook
Name 入力順: 【入力必須】申込書!$AH$4
Name 入力順: [1]【入力必須】申込書!#REF!
Name 入力順3: 【入力必須】申込書!$J$27

Sheet 【入力必須】申込書
B2: 福島雇用促進支援事業
B4: 令和8年度 ふくしまで働こう企業説明会（1/15郡山）出展申込書
B6: 下記の事項を必ずお読みいただき、ご了承のうえ、□にチェックをしてお申込ください。
C8: [注意事項]
C10: ・ 申込書の記入漏れがある場合、申込を受理できません。
C11: ・ 説明会当日に有効となり得る求人票が無い場合は、参加できません。
C12: ・ 説明会で募集したい求人の情報を、求人票の表記と相違がないようご入力ください。（１社５件まで）
C13: 参加が決定した事業所は、別紙１の内容で、冊子等に掲載します。
C14: ・ 求人票の紹介期限が切れる場合も原則更新を想定とし、現在出ている求人番号でお申込ください。
C15: ・ ハローワークへの求人票手続きがこれからの場合は、求人番号欄に手続き予定日をご入力ください。
C16: ・ ただし、「求人内容」の表記が求人票と違う場合は、当協議会で求人票の表記に修正します。
C17: ・ 申込多数の場合は抽選により決定します。
C18: ・ 本申込でいただいた情報は、福島雇用促進支援事業の開催運営を目的としてのみ使用します。
C19: ・ 当協議会が実施する事業において、当協議会に故意または重大な過失がある場合を除き、
C20: 事故・トラブル・損失・傷害等について、当協議会は補償や賠償責任を一切負いません。
... C22: 当協議会からメールがない場合、申込書が届いていない可能性があります。お手数ですが協議会までお問い合わせください。
B24: 上記事項について了承し、申込みます
B27: 申 込 日 | E27: 令和 | K27: 年 | N27: 月 | P27: 日
B32: 出展事業所募集を 知ったきっかけ
X33: （名称： | AF33: ）
B35: 事業所名 | H35: 事業所 | V35: 支店・営業所・工場等
H37: ※法人格は省略せず入力してください
B38: 事業所番号
Y39: ※ハローワークの求人票や雇用保険被保険者資格 取得届の事業主通知用に記載の番号です
B44: 所 在 地
F45: 〒
B49: 震災前所在地 （2011年3月11日時点）
B52: 電話番号
B56: 申込担当者 | F56: 役職 | R56: カナ
R58: 氏名 | AE58: 様
E62: 住 所
K63: 〒 | R63: ▼郵送物はこちらの住所に送ります
E67: 電話番号
E70: メールアドレス
B74: 説明会出席者 ※出席は2名以上 でお願いします | E74: 役職 | K74: カナ | T74: 役職 | Y74: カナ
K76: 氏名 | R76: 様 | Y76: 氏名 | AF76: 様
E79: 役職 | K79: カナ | T79: 役職 | Y79: カナ
K81: 氏名 | R81: 様 | Y81: 氏名 | AF81: 様
E84: 当日の緊急連絡先 （携帯電話番号）
Y85: ※説明会当日の緊急連絡時以外は 使用しません
B88: ◆高卒採用状況を伺います。 令和９年４月 高卒採用予定者数 | K88: ◆シニアのブース訪問について 伺います。 出展決定の場合、ブースに「シニアOK」の 目印を掲示させていただきます・ | U88: ◆電源使用有無について伺います。 （電源は１ブースあたり１Ａ程度）
J89: 人 | Q89: シニアOK | AB89: 使用有り 使用無し
AD91: 別紙1
B92: 事業所名 | E92: =H36 -> 0 | W92: =V36 -> 0
C95: 企業情報
B96: 業 種 | E96: 選択してください | Q96: ここに写真を貼付けてください 働く現場、社員旅行、自社製品、社屋外観など 貴社の雰囲気が伝わるものであれば何でも構いません。
B97: 事業内容
B98: ホームページ
B99: 問合せ先 | C99: 担当者名
C100: 電話番号
C101: 求人内容 | F101: ※対象求人は【一般求人】です （新卒・既卒求人や障害のある方のための求人は今回掲載できません）
B102: 求人番号 | D102: 職 種 | M102: 雇用形態 | P102: 就業地域 ※市町村名 | U102: 賃金 | AC102: 年齢 | AE102: 休日
Y103: ～
Y104: ～
Y105: ～
Y106: ～
Y107: ～
C108: 当社はこんな会社です | P108: プルダウンで選択してください▶ | AB108: 社宅・社員寮
C113: 参加者へのメッセージ
B120: ◆障がい者採用予定はありますか。
B122: ◆今年度、当協議会が開催する「採用活動向上セミナー」に参加を希望しますか。
B125: ◆企業説明会のあとに、当協議会による「企業見学」の開催を希望しますか。
B126: ブースを訪問された求職者へのアフターフォローとして、企業見学を開催することは、「ミスマッチを防ぎつつ、マッチングの機会が高まる」と
B127: 好評をいただいております。
D129: （開催希望日：第一候補 | L129: 月 | N129: 日 | O129: ／ | P129: 第二候補 | U129: 月 | W129: 日）
B132: ※申込多数の場合は抽選とさせていただきます。開催が決定した企業様には、後日担当者より日程調整の連絡をいたします。
B133: なお、本出展申込書により、企業見学の申込書に代えさせていただきます。
B135: 問合せ先 | D135: 福島広域雇用促進支援協議会 福島統括窓口 | Q135: ＴＥＬ： | T135: ０２４－５２４－２１２１

Sheet 【入力不要】別紙1
B1: ブース No. | I1: =【入力必須】申込書!H36&"" | X1: =【入力必須】申込書!V36&"" | AI1: ＱＲコード 協議会作成 1.8×1.8
C6: 企業情報
B7: 業 種 | G7: =【入力必須】申込書!E96&"" -> 選択してください | S7: 協議会で写真を挿入します
B8: 事業内容 | G8: =【入力必須】申込書!F97&""
B9: ホームページ | G9: =【入力必須】申込書!F98&""
B10: 問合せ先 | C10: 担当者名 | G10: =【入力必須】申込書!F99&""
C11: 電話番号 | G11: =【入力必須】申込書!F100&""
C12: 求人内容 ※求人票はブースでご確認ください
B13: 職 種 | M13: 雇用形態 | Q13: 就業地域 | U13: 賃金 | AE13: 年齢 | AI13: 休日
B14: A | C14: =【入力必須】申込書!D103 -> 0 | M14: =【入力必須】申込書!M103 -> 0 | Q14: =【入力必須】申込書!P103 -> 0 | U14: =【入力必須】申込書!U103 -> 0 | Y14: ～ | AA14: =【入力必須】申込書!Z103 -> 0 | AE14: =【入力必須】申込書!AC103 -> 0 | AF14: =【入力必須】申込書!Z103 -> 0 | AG14: =【入力必須】申込書!AA103 -> 0 | AH14: =【入力必須】申込書!AB103 -> 0 | AI14: =【入力必須】申込書!AE103 -> 0
B15: B | C15: =【入力必須】申込書!D104 -> 0 | M15: =【入力必須】申込書!M104 -> 0 | Q15: =【入力必須】申込書!P104 -> 0 | U15: =【入力必須】申込書!U104 -> 0 | Y15: ～ | AA15: =【入力必須】申込書!Z104 -> 0 | AE15: =【入力必須】申込書!AC104 -> 0 | AF15: =【入力必須】申込書!Z104 -> 0 | AG15: =【入力必須】申込書!AA104 -> 0 | AH15: =【入力必須】申込書!AB104 -> 0 | AI15: =【入力必須】申込書!AE104 -> 0
B16: C | C16: =【入力必須】申込書!D105 -> 0 | M16: =【入力必須】申込書!M105 -> 0 | Q16: =【入力必須】申込書!P105 -> 0 | U16: =【入力必須】申込書!U105 -> 0 | Y16: ～ | AA16: =【入力必須】申込書!Z105 -> 0 | AE16: =【入力必須】申込書!AC105 -> 0 | AF16: =【入力必須】申込書!Z105 -> 0 | AG16: =【入力必須】申込書!AA105 -> 0 | AH16: =【入力必須】申込書!AB105 -> 0 | AI16: =【入力必須】申込書!AE105 -> 0
B17: D | C17: =【入力必須】申込書!D106 -> 0 | M17: =【入力必須】申込書!M106 -> 0 | Q17: =【入力必須】申込書!P106 -> 0 | U17: =【入力必須】申込書!U106 -> 0 | Y17: ～ | AA17: =【入力必須】申込書!Z106 -> 0 | AE17: =【入力必須】申込書!AC106 -> 0 | AF17: =【入力必須】申込書!Z106 -> 0 | AG17: =【入力必須】申込書!AA106 -> 0 | AH17: =【入力必須】申込書!AB106 -> 0 | AI17: =【入力必須】申込書!AE106 -> 0
B18: E | C18: =【入力必須】申込書!D107 -> 0 | M18: =【入力必須】申込書!M107 -> 0 | Q18: =【入力必須】申込書!P107 -> 0 | U18: =【入力必須】申込書!U107 -> 0 | Y18: ～ | AA18: =【入力必須】申込書!Z107 -> 0 | AE18: =【入力必須】申込書!AC107 -> 0 | AF18: =【入力必須】申込書!Z107 -> 0 | AG18: =【入力必須】申込書!AA107 -> 0 | AH18: =【入力必須】申込書!AB107 -> 0 | AI18: =【入力必須】申込書!AE107 -> 0
C19: 当社はこんな会社です | AA19: 社宅・社員寮 | AI19: =【入力必須】申込書!AE108
C20: =【入力必須】申込書!C109&""
C24: 参加者へのメッセージ
C25: =【入力必須】申込書!C114&""
